BEGIN:VCALENDAR
VERSION:2.0
PRODID:-//Mirage-Verein Buochs//NONSGML kigkonsult.se iCalcreator 2.16.12//
METHOD:PUBLISH
X-MS-OLK-FORCEINSPECTOROPEN:TRUE
BEGIN:VEVENT
UID:20260422T140921CEST-4588XDt3k7@Mirage-Verein Buochs
DTSTAMP:20260422T120921Z
DESCRIPTION:Liebe MIRAGE-Freunde\,\n\n\nwir freuen uns\, Sie zur ordentlich
 en Mitgliederversammlung und Abschluss des Jahres 2018 einladen zu dürfen.
 \n\n\nTraktanden:\n\n1. Begrüssung\, Vorstellung Vorstand\n2. Wahl der Sti
 mmenzähler\n3. Protokoll der Mitgliederversammlung vom 07.04.18\n4. Jahres
 berichte:\n    • des Präsidenten\n    • des Technischen Chefs\n    • des C
 hefs Infrastruktur\n    • des Archivars\n    • des Kurators\n    • des Kas
 siers\n    • der Revisoren / Entlastung der Organe\n5. Wahlen\n6. Budget u
 nd Festsetzung Jahresbeitrag\n7. Vorschlag Jahresprogramm 2019\n8. Varia\n
 \n\nAnträge an die Mitgliederversammlung sind spätestens bis 16. März 2019
  an den Präsidenten zu richten.\n\n\nReferat:\nDer Projektleiter «Neues Ka
 mpfflugzeug Luftwaffe» und Pilot Oberst i Gst Peter 'Pablo' Merz informier
 t uns aus erster Hand über die Evaluation und die anstehende Beschaffung.
 \n\n\nBesonderes:\nNach dem Mittagessen haben Sie die Gelegenheit\, einem 
 Standlauf mit unserem Aufklärer R-2109 beizuwohnen und unsere Sammlung im 
 Bremshaus und den Jäger Mirage IIIS J-2313 im Freien zu besichtigen.\n\n\n
 Für Verpflegung im Restaurant „Cockpit“\, offen ab 0930h\, ist gesorgt. Mi
 ttagessen nach der GV.\n\n \n\nDer Präsident\n
DTSTART:20190406T100000
DTEND:20190406T120000
ORGANIZER:MAILTO:Mirage-Verein Buochs <info@mirage-buochs.ch>
SUMMARY:Mitgliederversammlung
END:VEVENT
END:VCALENDAR
