BEGIN:VCALENDAR
VERSION:2.0
PRODID:-//Mirage-Verein Buochs//NONSGML kigkonsult.se iCalcreator 2.16.12//
METHOD:PUBLISH
X-MS-OLK-FORCEINSPECTOROPEN:TRUE
BEGIN:VEVENT
UID:20260422T140755CEST-1327M1lCxG@Mirage-Verein Buochs
DTSTAMP:20260422T120755Z
DESCRIPTION:Am Samstag\, den 23. März\, steht ein weiterer Arbeitstag an. E
 s werden wieder diverse Arbeiten durchgeführt.\n\nDamit wir den Anlass opt
 imal planen können\, bitten wir die Teilnehmer\, sich bis spätestens am So
 nntag\, 17. März anzumelden.\nBitte tragt euch einfach in dieser Doodle Um
 frage ein https://doodle.com/poll/2kptiqyc7g9ki6fr\n\nArbeitsbeginn ist wi
 e immer um 09.00 Uhr.\n 
DTSTART:20190323T090000
DTEND:20190323T160000
LOCATION:Bremshaus
ORGANIZER:MAILTO:Mirage-Verein Buochs <info@mirage-buochs.ch>
SUMMARY:1. Arbeitstag 2019
END:VEVENT
END:VCALENDAR
