BEGIN:VCALENDAR
VERSION:2.0
PRODID:-//Mirage-Verein Buochs//NONSGML kigkonsult.se iCalcreator 2.16.12//
METHOD:PUBLISH
X-MS-OLK-FORCEINSPECTOROPEN:TRUE
BEGIN:VEVENT
UID:20260422T140841CEST-9416dofnhN@Mirage-Verein Buochs
DTSTAMP:20260422T120841Z
DESCRIPTION:Iheimisch 2019 findet vom 30. Mai bis 2. Juni 2019 auf dem Flug
 feld Buochs statt. Der Mirage-Verein ist ebenfalls mit dabei.
DTSTART:20190530T000000
DTEND:20190602T000000
LOCATION:Flugfeld Buochs
ORGANIZER:MAILTO:Mirage-Verein Buochs <info@mirage-buochs.ch>
SUMMARY:Iheimisch 2019 
END:VEVENT
END:VCALENDAR
