BEGIN:VCALENDAR
VERSION:2.0
PRODID:-//Mirage-Verein Buochs//NONSGML kigkonsult.se iCalcreator 2.16.12//
METHOD:PUBLISH
X-MS-OLK-FORCEINSPECTOROPEN:TRUE
BEGIN:VEVENT
UID:20260422T140922CEST-4385gd80JX@Mirage-Verein Buochs
DTSTAMP:20260422T120922Z
DESCRIPTION:Der Mirage-Verein präsentiert sich auf dem Flugplatz Emmen.
DTSTART:20190524T000000
DTEND:20190525T000000
LOCATION:Militärflugplatz Emmen
ORGANIZER:MAILTO:Mirage-Verein Buochs <info@mirage-buochs.ch>
SUMMARY:Tage der Öffentlichkeit / 80 Jahre Flugplatz Emmen
END:VEVENT
END:VCALENDAR
