BEGIN:VCALENDAR
VERSION:2.0
PRODID:-//Mirage-Verein Buochs//NONSGML kigkonsult.se iCalcreator 2.16.12//
METHOD:PUBLISH
X-MS-OLK-FORCEINSPECTOROPEN:TRUE
BEGIN:VEVENT
UID:20260422T141009CEST-6847Fsu348@Mirage-Verein Buochs
DTSTAMP:20260422T121009Z
DESCRIPTION:Am Donnerstag\, 24. Januar findet wieder ein Triebwerklauf unse
 rer Mirage R-2109 im Bremshaus Buochs statt. Um 18.00 Uhr sind alle Mitgli
 eder die Lust und Laune haben\, dazu eingeladen.
DTSTART:20190124T180000
DTEND:20190124T193000
LOCATION:Bremshaus Buochs
ORGANIZER:MAILTO:Mirage-Verein Buochs <info@mirage-buochs.ch>
SUMMARY:periodischer TW-Lauf
END:VEVENT
END:VCALENDAR
